BEGIN:VCALENDAR
VERSION:2.0
PRODID:spatie/icalendar-generator
DESCRIPTION:Events from Roanoke Council of Garden Clubs
X-WR-CALDESC:Events from Roanoke Council of Garden Clubs
REFRESH-INTERVAL;VALUE=DURATION:PT1440M
X-PUBLISHED-TTL:PT1440M
BEGIN:VTIMEZONE
TZID:America/New_York
BEGIN:STANDARD
DTSTART:20251102T020000Z
TZOFFSETFROM:-0400
TZOFFSETTO:-0500
END:STANDARD
BEGIN:DAYLIGHT
DTSTART:20260308T020000Z
TZOFFSETFROM:-0500
TZOFFSETTO:-0400
END:DAYLIGHT
BEGIN:STANDARD
DTSTART:20261101T020000Z
TZOFFSETFROM:-0400
TZOFFSETTO:-0500
END:STANDARD
END:VTIMEZONE
BEGIN:VTIMEZONE
TZID:UTC
BEGIN:STANDARD
DTSTART:20250725T121547Z
TZOFFSETFROM:+0000
TZOFFSETTO:+0000
END:STANDARD
END:VTIMEZONE
BEGIN:VEVENT
UID:1367-260
DTSTAMP:20260421T121547Z
SUMMARY:DAR - COLONEL WILLIAM PRESTON GROUP
LOCATION:Roanoke Council of Garden Clubs 3640 Colonial Avenue  Roanoke Virg
 inia 24018
ORGANIZER;CN=admin:MAILTO:rcgc3640@gmail.com
DTSTART;TZID=America/New_York:20260612T100000
DTEND;TZID=America/New_York:20260612T120000
X-ALT-DESC;FMTTYPE=TEXT/HTML:
CATEGORIES:BUILDING RENTAL
URL;VALUE=URI:https://roanokecouncilofgardenclubs.com/?mc-events=dar-colone
 l-william-preston-group-2
METHOD:PUBLISH
END:VEVENT
END:VCALENDAR